BEGIN:VCALENDAR
VERSION:2.0
PRODID:-//SG-Walhalla - ECPv6.15.20//NONSGML v1.0//EN
CALSCALE:GREGORIAN
METHOD:PUBLISH
X-ORIGINAL-URL:https://sg-walhalla.de
X-WR-CALDESC:Veranstaltungen für SG-Walhalla
REFRESH-INTERVAL;VALUE=DURATION:PT1H
X-Robots-Tag:noindex
X-PUBLISHED-TTL:PT1H
BEGIN:VTIMEZONE
TZID:Europe/Berlin
BEGIN:DAYLIGHT
TZOFFSETFROM:+0100
TZOFFSETTO:+0200
TZNAME:CEST
DTSTART:20250330T010000
END:DAYLIGHT
BEGIN:STANDARD
TZOFFSETFROM:+0200
TZOFFSETTO:+0100
TZNAME:CET
DTSTART:20251026T010000
END:STANDARD
BEGIN:DAYLIGHT
TZOFFSETFROM:+0100
TZOFFSETTO:+0200
TZNAME:CEST
DTSTART:20260329T010000
END:DAYLIGHT
BEGIN:STANDARD
TZOFFSETFROM:+0200
TZOFFSETTO:+0100
TZNAME:CET
DTSTART:20261025T010000
END:STANDARD
BEGIN:DAYLIGHT
TZOFFSETFROM:+0100
TZOFFSETTO:+0200
TZNAME:CEST
DTSTART:20270328T010000
END:DAYLIGHT
BEGIN:STANDARD
TZOFFSETFROM:+0200
TZOFFSETTO:+0100
TZNAME:CET
DTSTART:20271031T010000
END:STANDARD
END:VTIMEZONE
BEGIN:VEVENT
DTSTART;TZID=Europe/Berlin:20260321T130000
DTEND;TZID=Europe/Berlin:20260321T163000
DTSTAMP:20260421T171815
CREATED:20251124T173954Z
LAST-MODIFIED:20260129T090603Z
UID:6158-1774098000-1774110600@sg-walhalla.de
SUMMARY:SELBSTVERTEIDIGUNG für alle ab ca. 55 Jahre
DESCRIPTION:im Dojo der SG Walhalla bietet das Karatezentrum Regensburg einen Selbstverteidigungskurs für alle ab ca. 55 Jahren an.\nSchwerpunkte sind:\n– Problemerkennung-/Vermeidung!\n– Sich maximal „ungenießbar“ machen\n– Einsatz von Hilfsmitteln (Kugelschreiber\, Pfefferspray u. vieles mehr)\n– Verbale Auseinandersetzungen. „Umfeld/Personen“ aktiv einbeziehen\n– Erst-Initiative\n– Schmerzrelevante Regionen (Hals-Aufwärts)\n– Körpersprache\, Distanzkontrolle\, Messerproblematik. \nEs sind keine Vorkenntnisse erforderlich. Kommt im Freizeitlook\, barfuß\, in Socken oder Hallenschuhen. Wir trainieren auf Matten.\nGebühr: 15 Euro (möglichst passend) \nDer Kurs hat maximal 16 Teilnehmer\, Anmeldung ab sofort bis spätestens 17.3.2026 möglich\nMehr Infos und Anmeldung bei Norbert Paschke\, Mobiltelefon/WhattsApp 01520 9627657 oder per E-Mail an nopas@arcor.de
URL:https://sg-walhalla.de/event/selbstverteidung-fuer-alle-ab-ca-58-jahre/
LOCATION:SGW Karatehalle
CATEGORIES:Karate
END:VEVENT
END:VCALENDAR